BEGIN:VCALENDAR
VERSION:2.0
PRODID:-//ChamberMaster//Event Calendar 2.0//EN
METHOD:PUBLISH
X-PUBLISHED-TTL:P3D
REFRESH-INTERVAL:P3D
CALSCALE:GREGORIAN
BEGIN:VEVENT
DTSTART:20241229T000000Z
DTEND:20241229T023000Z
X-MICROSOFT-CDO-ALLDAYEVENT:FALSE
SUMMARY:The VowsToKeep End-of-Year Barn Dance
DESCRIPTION:Grab your honey and come boot\, scoot\, and boogie with us! WHEN: Saturday\, December 28\, 2024 from 7:00pm - 9:30pm WHERE: Marmon Valley Farm | 7754 OH-292\, Zanesfield\, OH 43360 This End-of-Year Barn Dance will allow you to enjoy a boot-scoot-n-boogie good time with your love\, featuring square dance lessons taught by Wrangler Matt. Additionally\, there will be sweet treats\, a silent auction (which includes many date options!) and marriage encouragement from David & Tracy Sellars\, founders of VowsToKeep Marriage Ministries.
X-ALT-DESC;FMTTYPE=text/html:Grab your honey and come boot\, scoot\, and boogie with us! WHEN: Saturday\, December 28\, 2024 from 7:00pm - 9:30pm WHERE: Marmon Valley Farm | 7754 OH-292\, Zanesfield\, OH 43360 This End-of-Year Barn Dance will allow you to enjoy a boot-scoot-n-boogie good time with your love\, featuring square dance lessons taught by Wrangler Matt. Additionally\, there will be sweet treats\, a silent auction (which includes many date options!) and marriage encouragement from David &amp\; Tracy Sellars\, founders of VowsToKeep Marriage Ministries.
LOCATION:Marmon Valley Farm
UID:e.3616.760
SEQUENCE:3
DTSTAMP:20260424T225548Z
URL:https://master.madisoncountyohio.org/events/details/the-vowstokeep-end-of-year-barn-dance-760
END:VEVENT

END:VCALENDAR
