BEGIN:VCALENDAR
VERSION:2.0
PRODID:-//ChamberMaster//Event Calendar 2.0//EN
METHOD:PUBLISH
X-PUBLISHED-TTL:P3D
REFRESH-INTERVAL:P3D
CALSCALE:GREGORIAN
BEGIN:VEVENT
DTSTART:20250509T223000Z
DTEND:20250510T013000Z
X-MICROSOFT-CDO-ALLDAYEVENT:FALSE
SUMMARY:Euchre Date Night
DESCRIPTION:Need a date night?! VowsToKeep Marriage Ministries invites you to a Euchre Date Night event! This night will be a fun and unique date night for you and your spouse that you won't want to miss! ? WHEN: Friday\, May 9\, 2025 from 6:30pm - 9:30pm. WHERE: This event will be hosted at Bellefontaine Grace Church. WHAT TO EXPECT:: The event will feature a Euchre tournament with the chance to win prizes! Additionally\, there will be dinner\, desserts\, and marriage encouragement from David & Tracy Sellars\, founders of VowsToKeep Marriage Ministries. ? Registration is open and will remain open until tickets sell out. Tickets are $50 per couple. ? Register today! Advance registration is required.
X-ALT-DESC;FMTTYPE=text/html:Need a date night?! VowsToKeep Marriage Ministries invites you to a Euchre Date Night event! This night will be a fun and unique date night for you and your spouse that you won&#39\;t want to miss! ? WHEN: Friday\, May 9\, 2025 from 6:30pm - 9:30pm. WHERE: This event will be hosted at Bellefontaine Grace Church. WHAT TO EXPECT:: The event will feature a Euchre tournament with the chance to win prizes! Additionally\, there will be dinner\, desserts\, and marriage encouragement from David &amp\; Tracy Sellars\, founders of VowsToKeep Marriage Ministries. ? Registration is open and will remain open until tickets sell out. Tickets are $50 per couple. ? Register today! Advance registration is required.
LOCATION:2220 S Main St\, Bellefontaine\, OH 43311
UID:e.3616.761
SEQUENCE:3
DTSTAMP:20260424T114127Z
URL:https://master.madisoncountyohio.org/events/details/euchre-date-night-761
END:VEVENT

END:VCALENDAR
